BEGIN:VCALENDAR
VERSION:2.0
PRODID:-//ZŠ a MŠ Mysločovice - ECPv5.14.1//NONSGML v1.0//EN
CALSCALE:GREGORIAN
METHOD:PUBLISH
X-WR-CALNAME:ZŠ a MŠ Mysločovice
X-ORIGINAL-URL:https://www.zsmysl.cz
X-WR-CALDESC:Akce na ZŠ a MŠ Mysločovice
BEGIN:VTIMEZONE
TZID:Europe/Prague
BEGIN:DAYLIGHT
TZOFFSETFROM:+0100
TZOFFSETTO:+0200
TZNAME:CEST
DTSTART:20250330T010000
END:DAYLIGHT
BEGIN:STANDARD
TZOFFSETFROM:+0200
TZOFFSETTO:+0100
TZNAME:CET
DTSTART:20251026T010000
END:STANDARD
END:VTIMEZONE
BEGIN:VEVENT
DTSTART;TZID=Europe/Prague:20250925T141500
DTEND;TZID=Europe/Prague:20250925T161500
DTSTAMP:20260420T120523
CREATED:20250903T181248Z
LAST-MODIFIED:20250924T142244Z
UID:28832-1758809700-1758816900@www.zsmysl.cz
SUMMARY:Tvořivé odpoledne - komunitní setkání rodičů a dětí
DESCRIPTION:Zveme všechny rodiče\, prarodiče a děti z naší mateřské školy na Tvořivé odpoledne\, které se uskuteční ve čtvrtek 25. září od 14.15 do 16.15 vzhledem k deštivému a chladnému počasí v 2. třídě v patře. \nPřineste si s sebou velkou zavařovací sklenici a čajovou svíčku. Kdo má možnost\, může přinést i dýni na vydlabávání. \nPřipravíme čaj nebo kávu\, dětem můžete zpříjemnit pobyt něčím dobrým na zub z vaší kuchyně. \n  \nTěší se na vás paní učitelky \n 
URL:https://www.zsmysl.cz/akce/tvorive-odpoledne-komunitni-setkani-rodicu-a-deti/
CATEGORIES:Mateřská škola
END:VEVENT
END:VCALENDAR