BEGIN:VCALENDAR
VERSION:2.0
PRODID:-//ZŠ a MŠ Mysločovice - ECPv5.14.1//NONSGML v1.0//EN
CALSCALE:GREGORIAN
METHOD:PUBLISH
X-WR-CALNAME:ZŠ a MŠ Mysločovice
X-ORIGINAL-URL:https://www.zsmysl.cz
X-WR-CALDESC:Akce na ZŠ a MŠ Mysločovice
BEGIN:VTIMEZONE
TZID:Europe/Prague
BEGIN:DAYLIGHT
TZOFFSETFROM:+0100
TZOFFSETTO:+0200
TZNAME:CEST
DTSTART:20250330T010000
END:DAYLIGHT
BEGIN:STANDARD
TZOFFSETFROM:+0200
TZOFFSETTO:+0100
TZNAME:CET
DTSTART:20251026T010000
END:STANDARD
END:VTIMEZONE
BEGIN:VEVENT
DTSTART;TZID=Europe/Prague:20251206T153000
DTEND;TZID=Europe/Prague:20251206T163000
DTSTAMP:20260421T101941
CREATED:20250904T111831Z
LAST-MODIFIED:20251127T191607Z
UID:28856-1765035000-1765038600@www.zsmysl.cz
SUMMARY:Vystoupení na Mikulášském jarmarku
DESCRIPTION:V sobotu 6. prosince v 16.00 vystoupí všechny děti se svým adventním pásmem na Mikulášském jarmarku v Mysločovicích. \nSraz dětí je v 15.45 za hasičskou zbrojnicí\, po vystoupení dostanou děti od hasičů lístek na občerstvení. \nS dětmi nacvičujeme pásmo „Paní zima“\, se kterým vystoupíme na všech plánovaných adventních vystoupení. Děvčata představují zimu\, chlapci sněhuláky. Prosíme rodiče\, aby dětem přinesli nejpozději 24. 11. obyčejné velké bílé tričko bez nápisů\, které děti pohodlně oblečou i přes zimní bundu (nejlépe po tatínkovi apod). O zbytek kostýmu se postaráme my.
URL:https://www.zsmysl.cz/akce/vystoupeni-na-mikulasskem-jarmarku/
CATEGORIES:Mateřská škola
END:VEVENT
END:VCALENDAR