BEGIN:VCALENDAR
VERSION:2.0
PRODID:-//ZŠ a MŠ Mysločovice - ECPv5.14.1//NONSGML v1.0//EN
CALSCALE:GREGORIAN
METHOD:PUBLISH
X-WR-CALNAME:ZŠ a MŠ Mysločovice
X-ORIGINAL-URL:https://www.zsmysl.cz
X-WR-CALDESC:Akce na ZŠ a MŠ Mysločovice
BEGIN:VTIMEZONE
TZID:Europe/Prague
BEGIN:DAYLIGHT
TZOFFSETFROM:+0100
TZOFFSETTO:+0200
TZNAME:CEST
DTSTART:20250330T010000
END:DAYLIGHT
BEGIN:STANDARD
TZOFFSETFROM:+0200
TZOFFSETTO:+0100
TZNAME:CET
DTSTART:20251026T010000
END:STANDARD
END:VTIMEZONE
BEGIN:VEVENT
DTSTART;TZID=Europe/Prague:20251209T090000
DTEND;TZID=Europe/Prague:20251209T100000
DTSTAMP:20260421T102321
CREATED:20250904T113147Z
LAST-MODIFIED:20250904T113147Z
UID:28870-1765270800-1765274400@www.zsmysl.cz
SUMMARY:Divadlo v MŠ
DESCRIPTION:V úterý 9. prosince nás navštíví Divadlo z truhlice se pohádkou Vánoční hvězdička.
URL:https://www.zsmysl.cz/akce/divadlo-v-ms-2/
CATEGORIES:Mateřská škola
END:VEVENT
END:VCALENDAR